BEGIN:VCALENDAR
VERSION:2.0
PRODID:icalendar-ruby
CALSCALE:GREGORIAN
METHOD:PUBLISH
BEGIN:VEVENT
DTSTAMP:20260421T135036Z
UID:16-183740@8thchurch.org
DTSTART:20260504T170000Z
DTEND:20260504T180000Z
CLASS:PUBLIC
CREATED:20260420T154839
DESCRIPTION:
LAST-MODIFIED:20260420T154839
LOCATION:Lounge Upstairs
SUMMARY:Monday Bible Study
URL;VALUE=URI:https://8thchurch.org/events/monday-bible-study/2026-05-04
ATTACH;FILENAME=Bible-Study-3.jpg;FMTTYPE=image/jpeg:https://dq5pwpg1q8ru0.
 cloudfront.net/2025/08/09/04/30/58/81888c59-b15c-4384-9e34-d6c16e45a0a7/Bi
 ble-Study-3.jpg
END:VEVENT
END:VCALENDAR
