BEGIN:VCALENDAR
VERSION:2.0
PRODID:icalendar-ruby
CALSCALE:GREGORIAN
METHOD:PUBLISH
BEGIN:VEVENT
DTSTAMP:20260421T105631Z
UID:21-183733@8thchurch.org
DTSTART:20260429T144500Z
DTEND:20260429T154500Z
CLASS:PUBLIC
CREATED:20260420T154637
DESCRIPTION:
LAST-MODIFIED:20260420T154637
LOCATION:
SUMMARY:Music Committee Meeting
URL;VALUE=URI:https://8thchurch.org/events/music-committee-meeting--21/2026
 -04-29
END:VEVENT
END:VCALENDAR
