BEGIN:VCALENDAR
VERSION:2.0
PRODID:icalendar-ruby
CALSCALE:GREGORIAN
METHOD:PUBLISH
BEGIN:VEVENT
DTSTAMP:20260422T224916Z
UID:5-184745@8thchurch.org
DTSTART:20260920T133000Z
DTEND:20260920T143000Z
CLASS:PUBLIC
CREATED:20260422T164206
DESCRIPTION:Please join us every Sunday at 9:30 am for a traditional worshi
 p service.  Pastor Harry Koops preaches the first three Sundays of the mo
 nth and Pastor Mark Bergsma preaches on the fourth Sunday. If there is a f
 ifth Sunday of the month\, Pastor Garret Sweeney preaches.
LAST-MODIFIED:20260422T164206
LOCATION:Sanctuary
SUMMARY:Sunday Worship
URL;VALUE=URI:https://8thchurch.org/events/sunday-worship/2026-09-20
ATTACH;FILENAME=IMG_4423.JPG;FMTTYPE=image/jpeg:https://dq5pwpg1q8ru0.cloud
 front.net/2023/09/06/18/13/11/83ac916b-8878-4dcc-965b-6a7b04ab1cb0/IMG_442
 3.JPG
END:VEVENT
END:VCALENDAR
